BEGIN:VCALENDAR
VERSION:2.0
PRODID:-//demosphere.net//NONSGML kigkonsult.se iCalcreator 2.22.1//
METHOD:PUBLISH
X-WR-CALNAME:Démosphère Sarthe
X-WR-CALDESC:agenda alternatif de la région sarthoise
X-WR-RELCALID:6e6ccf8cffaa6e7a76fcd5a17c100fa8
X-WR-TIMEZONE:Europe/Paris
BEGIN:VEVENT
UID:https://sarthe.demosphere.net/rv/6735
DTSTAMP:20260420T163000Z
DESCRIPTION:plus d'infos sur : https://sarthe.demosphere.net/rv/6735
DTSTART:20260420T163000Z
DTEND:20260420T173000Z
GEO:00;0
LOCATION:72100 Le Mans\, \nL'Allumette\, 7 rue de la Marne
SUMMARY:Assemblée du collectif sarthois des soulèvements de la terre !
URL:https://sarthe.demosphere.net/rv/6735
END:VEVENT
BEGIN:VEVENT
UID:https://sarthe.demosphere.net/rv/6768
DTSTAMP:20260422T070000Z
DESCRIPTION:plus d'infos sur : https://sarthe.demosphere.net/rv/6768
DTSTART:20260422T070000Z
DTEND:20260422T080000Z
GEO:00;0
LOCATION:Bonnétable\, \nBonnétable
SUMMARY:Faire ensemble - au jardin et au verger
URL:https://sarthe.demosphere.net/rv/6768
END:VEVENT
BEGIN:VEVENT
UID:https://sarthe.demosphere.net/rv/6766
DTSTAMP:20260423T070000Z
DESCRIPTION:plus d'infos sur : https://sarthe.demosphere.net/rv/6766
DTSTART:20260423T070000Z
DTEND:20260423T080000Z
GEO:00;0
LOCATION:Bonnétable\, \nBonnétable
SUMMARY:Faire ensemble - au jardin et au verger
URL:https://sarthe.demosphere.net/rv/6766
END:VEVENT
BEGIN:VEVENT
UID:https://sarthe.demosphere.net/rv/6769
DTSTAMP:20260423T070000Z
DESCRIPTION:plus d'infos sur : https://sarthe.demosphere.net/rv/6769
DTSTART:20260423T070000Z
DTEND:20260423T080000Z
GEO:00;0
LOCATION:Bonnétable\, \nBonnétable
SUMMARY:Faire ensemble - au jardin et au verger
URL:https://sarthe.demosphere.net/rv/6769
END:VEVENT
BEGIN:VEVENT
UID:https://sarthe.demosphere.net/rv/6701
DTSTAMP:20260424T163000Z
DESCRIPTION:plus d'infos sur : https://sarthe.demosphere.net/rv/6701
DTSTART:20260424T163000Z
DTEND:20260424T173000Z
GEO:00;0
LOCATION:Parigné l'évèque\, \nMédiathèque de Parigné l'Evêque
SUMMARY:[Semaines d'éducation contre les discrimination] Rencontre : place 
 du corps ds la société
URL:https://sarthe.demosphere.net/rv/6701
END:VEVENT
BEGIN:VEVENT
UID:https://sarthe.demosphere.net/rv/6702
DTSTAMP:20260425T080000Z
DESCRIPTION:plus d'infos sur : https://sarthe.demosphere.net/rv/6702
DTSTART:20260425T080000Z
DTEND:20260425T090000Z
GEO:00;0
LOCATION:Coulaines\, \nCentre ville de Coulaines
SUMMARY:[Semaines d'éducation contre les discrimination] Block Party Interc
 ulturelle à Coulaines
URL:https://sarthe.demosphere.net/rv/6702
END:VEVENT
BEGIN:VEVENT
UID:https://sarthe.demosphere.net/rv/6813
DTSTAMP:20260425T080000Z
DESCRIPTION:plus d'infos sur : https://sarthe.demosphere.net/rv/6813
DTSTART:20260425T080000Z
DTEND:20260425T090000Z
GEO:00;0
LOCATION:72100 Le Mans\, \nverger partagé \, square Henri Barbin Bd Jean Ja
 cques Rousseau Pontlieue
SUMMARY:Troc plantes et graines
URL:https://sarthe.demosphere.net/rv/6813
END:VEVENT
BEGIN:VEVENT
UID:https://sarthe.demosphere.net/rv/6814
DTSTAMP:20260425T120000Z
DESCRIPTION:plus d'infos sur : https://sarthe.demosphere.net/rv/6814
DTSTART:20260425T120000Z
DTEND:20260425T130000Z
GEO:00;0
LOCATION:72100 Le Mans\, \nL'Allumette\, 7 rue de la Marne
SUMMARY:Café réparations / café couture
URL:https://sarthe.demosphere.net/rv/6814
END:VEVENT
BEGIN:VEVENT
UID:https://sarthe.demosphere.net/rv/6745
DTSTAMP:20260425T140000Z
DESCRIPTION:plus d'infos sur : https://sarthe.demosphere.net/rv/6745
DTSTART:20260425T140000Z
DTEND:20260425T150000Z
GEO:00;0
LOCATION:Ségrie\, \nFerme brasserie Blossier \nLa Basse Lande
SUMMARY:Troc de plantes\, projection et banquet bio et paysan
URL:https://sarthe.demosphere.net/rv/6745
END:VEVENT
BEGIN:VEVENT
UID:https://sarthe.demosphere.net/rv/6669
DTSTAMP:20260428T174500Z
DESCRIPTION:plus d'infos sur : https://sarthe.demosphere.net/rv/6669
DTSTART:20260428T174500Z
DTEND:20260428T184500Z
GEO:00;0
LOCATION:Le Mans\, \nCinéma CGR le Colisée 11 Rue du Port\, 72000 Le Mans
SUMMARY:Ciné-débats de SEM : l'impact des microplastiques sur nos corps
URL:https://sarthe.demosphere.net/rv/6669
END:VEVENT
BEGIN:VEVENT
UID:https://sarthe.demosphere.net/rv/6789
DTSTAMP:20260429T130000Z
DESCRIPTION:plus d'infos sur : https://sarthe.demosphere.net/rv/6789
DTSTART:20260429T130000Z
DTEND:20260429T140000Z
GEO:00;0
LOCATION:Le Mans\, \nMaison des citoyen.ne.s\, Place des Comtes du Maine \n
 Accès en face de l'arrêt de tram Comtes du Maine : \n- descendre les escal
 iers\, première porte à droite après les portes automatiques \n- descendre
  avec l'ascenseur à l'intérieur du bâtiment au centre de la place
SUMMARY:Centre de documentation RITIMO ouvert de 15h à 18h
URL:https://sarthe.demosphere.net/rv/6789
END:VEVENT
BEGIN:VEVENT
UID:https://sarthe.demosphere.net/rv/6807
DTSTAMP:20260430T180000Z
DESCRIPTION:plus d'infos sur : https://sarthe.demosphere.net/rv/6807
DTSTART:20260430T180000Z
DTEND:20260430T190000Z
GEO:00;0
LOCATION:Le Mans\, \nCinéma Le Royal\, 409 avenue Félix Geneslay
SUMMARY:'Ne prends pas la mer pour une grande savane' film documentaire
URL:https://sarthe.demosphere.net/rv/6807
END:VEVENT
BEGIN:VEVENT
UID:https://sarthe.demosphere.net/rv/6785
DTSTAMP:20260501T080000Z
DESCRIPTION:plus d'infos sur : https://sarthe.demosphere.net/rv/6785
DTSTART:20260501T080000Z
DTEND:20260501T090000Z
GEO:00;0
LOCATION:Lucé-sous-Ballon\, \nSalle communale de Lucé-sous-Ballon
SUMMARY:Troc plantes
URL:https://sarthe.demosphere.net/rv/6785
END:VEVENT
BEGIN:VEVENT
UID:https://sarthe.demosphere.net/rv/6816
DTSTAMP:20260501T093000Z
DESCRIPTION:plus d'infos sur : https://sarthe.demosphere.net/rv/6816
DTSTART:20260501T093000Z
DTEND:20260501T103000Z
GEO:00;0
LOCATION:Le Mans\, \nLieu à définir
SUMMARY:Le travail est une prison\, syndicats et politiques les matons
URL:https://sarthe.demosphere.net/rv/6816
END:VEVENT
BEGIN:VEVENT
UID:https://sarthe.demosphere.net/rv/6810
DTSTAMP:20260502T120000Z
DESCRIPTION:plus d'infos sur : https://sarthe.demosphere.net/rv/6810
DTSTART:20260502T120000Z
DTEND:20260502T130000Z
GEO:00;0
LOCATION:Le Mans\, \nPôle Coluche\, 31 allée C. Debussy\, Le Mans
SUMMARY:Adieu Windows avec notre aide !
URL:https://sarthe.demosphere.net/rv/6810
END:VEVENT
BEGIN:VEVENT
UID:https://sarthe.demosphere.net/rv/6790
DTSTAMP:20260506T130000Z
DESCRIPTION:plus d'infos sur : https://sarthe.demosphere.net/rv/6790
DTSTART:20260506T130000Z
DTEND:20260506T140000Z
GEO:00;0
LOCATION:Le Mans\, \nMaison des citoyen.ne.s\, Place des Comtes du Maine \n
 Accès en face de l'arrêt de tram Comtes du Maine : \n- descendre les escal
 iers\, première porte à droite après les portes automatiques \n- descendre
  avec l'ascenseur à l'intérieur du bâtiment au centre de la place
SUMMARY:Centre de documentation RITIMO ouvert de 15h à 18h
URL:https://sarthe.demosphere.net/rv/6790
END:VEVENT
BEGIN:VEVENT
UID:https://sarthe.demosphere.net/rv/6791
DTSTAMP:20260513T130000Z
DESCRIPTION:plus d'infos sur : https://sarthe.demosphere.net/rv/6791
DTSTART:20260513T130000Z
DTEND:20260513T140000Z
GEO:00;0
LOCATION:Le Mans\, \nMaison des citoyen.ne.s\, Place des Comtes du Maine \n
 Accès en face de l'arrêt de tram Comtes du Maine : \n- descendre les escal
 iers\, première porte à droite après les portes automatiques \n- descendre
  avec l'ascenseur à l'intérieur du bâtiment au centre de la place
SUMMARY:Centre de documentation RITIMO ouvert de 15h à 18h
URL:https://sarthe.demosphere.net/rv/6791
END:VEVENT
BEGIN:VEVENT
UID:https://sarthe.demosphere.net/rv/6792
DTSTAMP:20260520T130000Z
DESCRIPTION:plus d'infos sur : https://sarthe.demosphere.net/rv/6792
DTSTART:20260520T130000Z
DTEND:20260520T140000Z
GEO:00;0
LOCATION:Le Mans\, \nMaison des citoyen.ne.s\, Place des Comtes du Maine \n
 Accès en face de l'arrêt de tram Comtes du Maine : \n- descendre les escal
 iers\, première porte à droite après les portes automatiques \n- descendre
  avec l'ascenseur à l'intérieur du bâtiment au centre de la place
SUMMARY:Centre de documentation RITIMO ouvert de 15h à 18h
URL:https://sarthe.demosphere.net/rv/6792
END:VEVENT
BEGIN:VEVENT
UID:https://sarthe.demosphere.net/rv/6776
DTSTAMP:20260523T130000Z
DESCRIPTION:plus d'infos sur : https://sarthe.demosphere.net/rv/6776
DTSTART:20260523T130000Z
DTEND:20260523T140000Z
GEO:00;0
LOCATION:Ballon Saint-Mars\, \n2 le sablon 72290 Ballon st Mars
SUMMARY:Ferme ouverte Broussailles
URL:https://sarthe.demosphere.net/rv/6776
END:VEVENT
BEGIN:VEVENT
UID:https://sarthe.demosphere.net/rv/6793
DTSTAMP:20260527T130000Z
DESCRIPTION:plus d'infos sur : https://sarthe.demosphere.net/rv/6793
DTSTART:20260527T130000Z
DTEND:20260527T140000Z
GEO:00;0
LOCATION:Le Mans\, \nMaison des citoyen.ne.s\, Place des Comtes du Maine \n
 Accès en face de l'arrêt de tram Comtes du Maine : \n- descendre les escal
 iers\, première porte à droite après les portes automatiques \n- descendre
  avec l'ascenseur à l'intérieur du bâtiment au centre de la place
SUMMARY:Centre de documentation RITIMO ouvert de 15h à 18h
URL:https://sarthe.demosphere.net/rv/6793
END:VEVENT
BEGIN:VEVENT
UID:https://sarthe.demosphere.net/rv/6670
DTSTAMP:20260528T174500Z
DESCRIPTION:plus d'infos sur : https://sarthe.demosphere.net/rv/6670
DTSTART:20260528T174500Z
DTEND:20260528T184500Z
GEO:00;0
LOCATION:Le Mans\, \nCinéma CGR le Colisée 11 Rue du Port\, 72000 Le Mans
SUMMARY:ciné-débat de SEM : la santé environnementale vue par les enfants !
URL:https://sarthe.demosphere.net/rv/6670
END:VEVENT
BEGIN:VEVENT
UID:https://sarthe.demosphere.net/rv/6794
DTSTAMP:20260603T130000Z
DESCRIPTION:plus d'infos sur : https://sarthe.demosphere.net/rv/6794
DTSTART:20260603T130000Z
DTEND:20260603T140000Z
GEO:00;0
LOCATION:Le Mans\, \nMaison des citoyen.ne.s\, Place des Comtes du Maine \n
 Accès en face de l'arrêt de tram Comtes du Maine : \n- descendre les escal
 iers\, première porte à droite après les portes automatiques \n- descendre
  avec l'ascenseur à l'intérieur du bâtiment au centre de la place
SUMMARY:Centre de documentation RITIMO ouvert de 15h à 18h
URL:https://sarthe.demosphere.net/rv/6794
END:VEVENT
BEGIN:VEVENT
UID:https://sarthe.demosphere.net/rv/6795
DTSTAMP:20260610T130000Z
DESCRIPTION:plus d'infos sur : https://sarthe.demosphere.net/rv/6795
DTSTART:20260610T130000Z
DTEND:20260610T140000Z
GEO:00;0
LOCATION:Le Mans\, \nMaison des citoyen.ne.s\, Place des Comtes du Maine \n
 Accès en face de l'arrêt de tram Comtes du Maine : \n- descendre les escal
 iers\, première porte à droite après les portes automatiques \n- descendre
  avec l'ascenseur à l'intérieur du bâtiment au centre de la place
SUMMARY:Centre de documentation RITIMO ouvert de 15h à 18h
URL:https://sarthe.demosphere.net/rv/6795
END:VEVENT
BEGIN:VEVENT
UID:https://sarthe.demosphere.net/rv/6796
DTSTAMP:20260617T130000Z
DESCRIPTION:plus d'infos sur : https://sarthe.demosphere.net/rv/6796
DTSTART:20260617T130000Z
DTEND:20260617T140000Z
GEO:00;0
LOCATION:Le Mans\, \nMaison des citoyen.ne.s\, Place des Comtes du Maine \n
 Accès en face de l'arrêt de tram Comtes du Maine : \n- descendre les escal
 iers\, première porte à droite après les portes automatiques \n- descendre
  avec l'ascenseur à l'intérieur du bâtiment au centre de la place
SUMMARY:Centre de documentation RITIMO ouvert de 15h à 18h
URL:https://sarthe.demosphere.net/rv/6796
END:VEVENT
BEGIN:VEVENT
UID:https://sarthe.demosphere.net/rv/6797
DTSTAMP:20260624T130000Z
DESCRIPTION:plus d'infos sur : https://sarthe.demosphere.net/rv/6797
DTSTART:20260624T130000Z
DTEND:20260624T140000Z
GEO:00;0
LOCATION:Le Mans\, \nMaison des citoyen.ne.s\, Place des Comtes du Maine \n
 Accès en face de l'arrêt de tram Comtes du Maine : \n- descendre les escal
 iers\, première porte à droite après les portes automatiques \n- descendre
  avec l'ascenseur à l'intérieur du bâtiment au centre de la place
SUMMARY:Centre de documentation RITIMO ouvert de 15h à 18h
URL:https://sarthe.demosphere.net/rv/6797
END:VEVENT
BEGIN:VEVENT
UID:https://sarthe.demosphere.net/rv/6798
DTSTAMP:20260701T130000Z
DESCRIPTION:plus d'infos sur : https://sarthe.demosphere.net/rv/6798
DTSTART:20260701T130000Z
DTEND:20260701T140000Z
GEO:00;0
LOCATION:Le Mans\, \nMaison des citoyen.ne.s\, Place des Comtes du Maine \n
 Accès en face de l'arrêt de tram Comtes du Maine : \n- descendre les escal
 iers\, première porte à droite après les portes automatiques \n- descendre
  avec l'ascenseur à l'intérieur du bâtiment au centre de la place
SUMMARY:Centre de documentation RITIMO ouvert de 15h à 18h
URL:https://sarthe.demosphere.net/rv/6798
END:VEVENT
END:VCALENDAR
