BEGIN:VCALENDAR
VERSION:2.0
CALSCALE:GREGORIAN
METHOD:PUBLISH
PRODID:-//IndiaBioscience//Events//EN
BEGIN:VEVENT
DESCRIPTION:PHYTOPIA\, a digital exhibition on plants by Science Gallery Bengaluru.
DTSTART;VALUE=DATE:20200821
DTEND;VALUE=DATE:20200831
DTSTAMP:20200813T165000Z
CLASS:PUBLIC
LOCATION:Online
SEQUENCE:0
SUMMARY:PHYTOPIA
URL:https://indiabioscience.org/events/phytopia-1
UID:20200813T170447Z-184816@indiabioscience.org
END:VEVENT
END:VCALENDAR
